BEGIN:VCALENDAR
VERSION:2.0
PRODID:-//Bund Deutscher Baumeister - ECPv6.15.20//NONSGML v1.0//EN
CALSCALE:GREGORIAN
METHOD:PUBLISH
X-WR-CALNAME:Bund Deutscher Baumeister
X-ORIGINAL-URL:https://www.baumeister-online.de
X-WR-CALDESC:Veranstaltungen für Bund Deutscher Baumeister
REFRESH-INTERVAL;VALUE=DURATION:PT1H
X-Robots-Tag:noindex
X-PUBLISHED-TTL:PT1H
BEGIN:VTIMEZONE
TZID:Europe/Berlin
BEGIN:DAYLIGHT
TZOFFSETFROM:+0100
TZOFFSETTO:+0200
TZNAME:CEST
DTSTART:20250330T010000
END:DAYLIGHT
BEGIN:STANDARD
TZOFFSETFROM:+0200
TZOFFSETTO:+0100
TZNAME:CET
DTSTART:20251026T010000
END:STANDARD
BEGIN:DAYLIGHT
TZOFFSETFROM:+0100
TZOFFSETTO:+0200
TZNAME:CEST
DTSTART:20260329T010000
END:DAYLIGHT
BEGIN:STANDARD
TZOFFSETFROM:+0200
TZOFFSETTO:+0100
TZNAME:CET
DTSTART:20261025T010000
END:STANDARD
BEGIN:DAYLIGHT
TZOFFSETFROM:+0100
TZOFFSETTO:+0200
TZNAME:CEST
DTSTART:20270328T010000
END:DAYLIGHT
BEGIN:STANDARD
TZOFFSETFROM:+0200
TZOFFSETTO:+0100
TZNAME:CET
DTSTART:20271031T010000
END:STANDARD
END:VTIMEZONE
BEGIN:VEVENT
DTSTART;TZID=Europe/Berlin:20260812T180000
DTEND;TZID=Europe/Berlin:20260812T193000
DTSTAMP:20260421T163711
CREATED:20260318T072943Z
LAST-MODIFIED:20260318T073121Z
UID:10001512-1786557600-1786563000@www.baumeister-online.de
SUMMARY:Existenzgründung I-IV - Investition in die eigene Zukunft
DESCRIPTION:
URL:https://www.baumeister-online.de/veranstaltung/existenzgruendung-i-iv/2026-08-12/
LOCATION:digital
CATEGORIES:Weiterbildung
ATTACH;FMTTYPE=image/png:https://www.baumeister-online.de/app/uploads/2026/03/Weiterbildung-Existenzgruendung.png
ORGANIZER;CN="BDB.NRW":MAILTO:seminare@bdb-nrw.de
END:VEVENT
BEGIN:VEVENT
DTSTART;TZID=Europe/Berlin:20260819T180000
DTEND;TZID=Europe/Berlin:20260819T193000
DTSTAMP:20260421T163711
CREATED:20260318T072943Z
LAST-MODIFIED:20260318T073121Z
UID:10001513-1787162400-1787167800@www.baumeister-online.de
SUMMARY:Existenzgründung I-IV - Investition in die eigene Zukunft
DESCRIPTION:
URL:https://www.baumeister-online.de/veranstaltung/existenzgruendung-i-iv/2026-08-19/
LOCATION:digital
CATEGORIES:Weiterbildung
ATTACH;FMTTYPE=image/png:https://www.baumeister-online.de/app/uploads/2026/03/Weiterbildung-Existenzgruendung.png
ORGANIZER;CN="BDB.NRW":MAILTO:seminare@bdb-nrw.de
END:VEVENT
BEGIN:VEVENT
DTSTART;TZID=Europe/Berlin:20260826T180000
DTEND;TZID=Europe/Berlin:20260826T193000
DTSTAMP:20260421T163711
CREATED:20260318T072943Z
LAST-MODIFIED:20260318T073121Z
UID:10001514-1787767200-1787772600@www.baumeister-online.de
SUMMARY:Existenzgründung I-IV - Investition in die eigene Zukunft
DESCRIPTION:
URL:https://www.baumeister-online.de/veranstaltung/existenzgruendung-i-iv/2026-08-26/
LOCATION:digital
CATEGORIES:Weiterbildung
ATTACH;FMTTYPE=image/png:https://www.baumeister-online.de/app/uploads/2026/03/Weiterbildung-Existenzgruendung.png
ORGANIZER;CN="BDB.NRW":MAILTO:seminare@bdb-nrw.de
END:VEVENT
BEGIN:VEVENT
DTSTART;TZID=Europe/Berlin:20260902T180000
DTEND;TZID=Europe/Berlin:20260902T193000
DTSTAMP:20260421T163711
CREATED:20260318T072943Z
LAST-MODIFIED:20260318T073121Z
UID:10001515-1788372000-1788377400@www.baumeister-online.de
SUMMARY:Existenzgründung I-IV - Investition in die eigene Zukunft
DESCRIPTION:
URL:https://www.baumeister-online.de/veranstaltung/existenzgruendung-i-iv/2026-09-02/
LOCATION:digital
CATEGORIES:Weiterbildung
ATTACH;FMTTYPE=image/png:https://www.baumeister-online.de/app/uploads/2026/03/Weiterbildung-Existenzgruendung.png
ORGANIZER;CN="BDB.NRW":MAILTO:seminare@bdb-nrw.de
END:VEVENT
END:VCALENDAR