BEGIN:VCALENDAR
VERSION:2.0
PRODID:-//Bund Deutscher Baumeister - ECPv6.15.20//NONSGML v1.0//EN
CALSCALE:GREGORIAN
METHOD:PUBLISH
X-WR-CALNAME:Bund Deutscher Baumeister
X-ORIGINAL-URL:https://www.baumeister-online.de
X-WR-CALDESC:Veranstaltungen für Bund Deutscher Baumeister
REFRESH-INTERVAL;VALUE=DURATION:PT1H
X-Robots-Tag:noindex
X-PUBLISHED-TTL:PT1H
BEGIN:VTIMEZONE
TZID:Europe/Berlin
BEGIN:DAYLIGHT
TZOFFSETFROM:+0100
TZOFFSETTO:+0200
TZNAME:CEST
DTSTART:20250330T010000
END:DAYLIGHT
BEGIN:STANDARD
TZOFFSETFROM:+0200
TZOFFSETTO:+0100
TZNAME:CET
DTSTART:20251026T010000
END:STANDARD
BEGIN:DAYLIGHT
TZOFFSETFROM:+0100
TZOFFSETTO:+0200
TZNAME:CEST
DTSTART:20260329T010000
END:DAYLIGHT
BEGIN:STANDARD
TZOFFSETFROM:+0200
TZOFFSETTO:+0100
TZNAME:CET
DTSTART:20261025T010000
END:STANDARD
BEGIN:DAYLIGHT
TZOFFSETFROM:+0100
TZOFFSETTO:+0200
TZNAME:CEST
DTSTART:20270328T010000
END:DAYLIGHT
BEGIN:STANDARD
TZOFFSETFROM:+0200
TZOFFSETTO:+0100
TZNAME:CET
DTSTART:20271031T010000
END:STANDARD
END:VTIMEZONE
BEGIN:VEVENT
DTSTART;TZID=Europe/Berlin:20260701T180000
DTEND;TZID=Europe/Berlin:20260701T193000
DTSTAMP:20260421T151304
CREATED:20260415T093108Z
LAST-MODIFIED:20260415T093153Z
UID:10001546-1782928800-1782934200@www.baumeister-online.de
SUMMARY:Bauen mit Lehm I-IV – nachhaltig\, leistungsfähig\, zukunftsweisend
DESCRIPTION:
URL:https://www.baumeister-online.de/veranstaltung/bauen-mit-lehm-i-iv/2026-07-01/
LOCATION:digital
CATEGORIES:Weiterbildung
ATTACH;FMTTYPE=image/png:https://www.baumeister-online.de/app/uploads/2026/04/Weiterbildung-Lehmbau-I-IV.png
END:VEVENT
BEGIN:VEVENT
DTSTART;TZID=Europe/Berlin:20260722T180000
DTEND;TZID=Europe/Berlin:20260722T193000
DTSTAMP:20260421T151304
CREATED:20260415T093108Z
LAST-MODIFIED:20260415T093153Z
UID:10001547-1784743200-1784748600@www.baumeister-online.de
SUMMARY:Bauen mit Lehm I-IV – nachhaltig\, leistungsfähig\, zukunftsweisend
DESCRIPTION:
URL:https://www.baumeister-online.de/veranstaltung/bauen-mit-lehm-i-iv/2026-07-22/
LOCATION:digital
CATEGORIES:Weiterbildung
ATTACH;FMTTYPE=image/png:https://www.baumeister-online.de/app/uploads/2026/04/Weiterbildung-Lehmbau-I-IV.png
END:VEVENT
BEGIN:VEVENT
DTSTART;TZID=Europe/Berlin:20260729T180000
DTEND;TZID=Europe/Berlin:20260729T193000
DTSTAMP:20260421T151304
CREATED:20260415T093108Z
LAST-MODIFIED:20260415T093153Z
UID:10001548-1785348000-1785353400@www.baumeister-online.de
SUMMARY:Bauen mit Lehm I-IV – nachhaltig\, leistungsfähig\, zukunftsweisend
DESCRIPTION:
URL:https://www.baumeister-online.de/veranstaltung/bauen-mit-lehm-i-iv/2026-07-29/
LOCATION:digital
CATEGORIES:Weiterbildung
ATTACH;FMTTYPE=image/png:https://www.baumeister-online.de/app/uploads/2026/04/Weiterbildung-Lehmbau-I-IV.png
END:VEVENT
BEGIN:VEVENT
DTSTART;TZID=Europe/Berlin:20260805T180000
DTEND;TZID=Europe/Berlin:20260805T193000
DTSTAMP:20260421T151304
CREATED:20260415T093108Z
LAST-MODIFIED:20260415T093153Z
UID:10001549-1785952800-1785958200@www.baumeister-online.de
SUMMARY:Bauen mit Lehm I-IV – nachhaltig\, leistungsfähig\, zukunftsweisend
DESCRIPTION:
URL:https://www.baumeister-online.de/veranstaltung/bauen-mit-lehm-i-iv/2026-08-05/
LOCATION:digital
CATEGORIES:Weiterbildung
ATTACH;FMTTYPE=image/png:https://www.baumeister-online.de/app/uploads/2026/04/Weiterbildung-Lehmbau-I-IV.png
END:VEVENT
END:VCALENDAR